BEGIN:VCALENDAR
PRODID:-//Microsoft Corporation//Outlook MIMEDIR//EN
VERSION:2.0
METHOD:PUBLISH
BEGIN:VEVENT
DTSTART:20260422T111500
DTEND:20260422T121500
DESCRIPTION:Closed door meeting of the City Council to discuss data pursuant to Minnesota Statute Section 13D.05, subd. 2(a)(2). (Not open to public)
LOCATION:Room 330 - City Hall
SUMMARY:City Council
CATEGORIES:MEETING
END:VEVENT
END:VCALENDAR
