BEGIN:VCALENDAR
PRODID:-//Microsoft Corporation//Outlook MIMEDIR//EN
VERSION:2.0
METHOD:PUBLISH
BEGIN:VEVENT
DTSTART:20260422T130000
DTEND:20260422T140000
DESCRIPTION:
LOCATION:Council Chambers, City Hall
SUMMARY:Public Safety Committee
CATEGORIES:MEETING
END:VEVENT
END:VCALENDAR
