BEGIN:VCALENDAR
PRODID:-//Microsoft Corporation//Outlook MIMEDIR//EN
VERSION:2.0
METHOD:PUBLISH
BEGIN:VEVENT
DTSTART:20260422T090000
DTEND:20260422T100000
DESCRIPTION:Closed door meeting of the City Council pursuant to Minnesota Statutes Section 13D.05, subdivision 3(b) to discuss pending litigation in Jon Berry v. the City of Saint Paul, et. al. (Not open to public)
LOCATION:Room 330 - City Hall
SUMMARY:City Council
CATEGORIES:MEETING
END:VEVENT
END:VCALENDAR
